BEGIN:VCALENDAR
VERSION:2.0
PRODID:-//Wheeler&#039;s Estate - ECPv6.15.15//NONSGML v1.0//EN
CALSCALE:GREGORIAN
METHOD:PUBLISH
X-WR-CALNAME:Wheeler&#039;s Estate
X-ORIGINAL-URL:https://wheelersestate.com
X-WR-CALDESC:Events for Wheeler&#039;s Estate
REFRESH-INTERVAL;VALUE=DURATION:PT1H
X-Robots-Tag:noindex
X-PUBLISHED-TTL:PT1H
BEGIN:VTIMEZONE
TZID:Asia/Singapore
BEGIN:STANDARD
TZOFFSETFROM:+0800
TZOFFSETTO:+0800
TZNAME:+08
DTSTART:20220101T000000
END:STANDARD
END:VTIMEZONE
BEGIN:VEVENT
DTSTART;TZID=Asia/Singapore:20230802T193000
DTEND;TZID=Asia/Singapore:20230802T223000
DTSTAMP:20260420T052520
CREATED:20230728T034105Z
LAST-MODIFIED:20230728T034754Z
UID:3038-1691004600-1691015400@wheelersestate.com
SUMMARY:Shockwave
DESCRIPTION:Get ready for an unforgettable musical experience as “Shockwave” takes the spotlight with their dynamic renditions of popular Mando and Canto pop hits. This talented group of musicians promises to deliver an extraordinary show\, guaranteed to leave you in awe. \nWhether you are a fan of Mandarin or Cantonese music\, “Shockwave” has something special in store for you. So mark your calendars and join us every Wednesday as we embark on a thrilling musical journey with this exceptional live band.
URL:https://wheelersestate.com/event/shockwave/
LOCATION:Live Band by the Lawn\, 2 Park Ln\, 798386\, Singapore
ATTACH;FMTTYPE=image/jpeg:https://wheelersestate.com/wp-content/uploads/2023/07/WhatsApp-Image-2023-07-28-at-11.46.58-AM.jpeg
END:VEVENT
BEGIN:VEVENT
DTSTART;TZID=Asia/Singapore:20230719T200000
DTEND;TZID=Asia/Singapore:20230719T223000
DTSTAMP:20260420T052520
CREATED:20230522T085135Z
LAST-MODIFIED:20230707T023332Z
UID:2479-1689796800-1689805800@wheelersestate.com
SUMMARY:JJ Lin Tribute Night
DESCRIPTION:Step into the world of mesmerising melodies at our first-ever JJ Jin Tribute Night on 19 July 2023 (Wednesday) & be prepared to be enthralled as we present the incredible talent of Hanz\, who will be traveling all the way from Kuala Lumpur to grace our stage. \nAs a devoted fan of JJ Lin himself\, Hanz possesses a deep connection with the heartfelt lyrics and captivating melodies that have touched millions of hearts worldwide. Hanz also captures the essence of JJ Lin’s music while adding his own unique flair. \nFrom soaring ballads to upbeat anthems\, you’ll experience the full spectrum of emotions that JJ Lin’s songs evoke. \nSo\, what are you waiting for? Get your tickets now!
URL:https://wheelersestate.com/event/beyond-tribute-night/
LOCATION:Live Band by the Lawn\, 2 Park Ln\, 798386\, Singapore
ATTACH;FMTTYPE=image/jpeg:https://wheelersestate.com/wp-content/uploads/2023/05/jj-lin-ig-2.jpg
END:VEVENT
END:VCALENDAR