BEGIN:VCALENDAR
VERSION:2.0
PRODID:-//Wheeler&#039;s Estate - ECPv6.15.15//NONSGML v1.0//EN
CALSCALE:GREGORIAN
METHOD:PUBLISH
X-ORIGINAL-URL:https://wheelersestate.com
X-WR-CALDESC:Events for Wheeler&#039;s Estate
REFRESH-INTERVAL;VALUE=DURATION:PT1H
X-Robots-Tag:noindex
X-PUBLISHED-TTL:PT1H
BEGIN:VTIMEZONE
TZID:Asia/Singapore
BEGIN:STANDARD
TZOFFSETFROM:+0800
TZOFFSETTO:+0800
TZNAME:+08
DTSTART:20220101T000000
END:STANDARD
END:VTIMEZONE
BEGIN:VEVENT
DTSTART;TZID=Asia/Singapore:20230514T190000
DTEND;TZID=Asia/Singapore:20230514T220000
DTSTAMP:20260422T092553
CREATED:20230417T050916Z
LAST-MODIFIED:20230511T081812Z
UID:2310-1684090800-1684101600@wheelersestate.com
SUMMARY:The Great Gatsby
DESCRIPTION:
URL:https://wheelersestate.com/event/the-great-gatsby/
LOCATION:Backyard Movie Night
ATTACH;FMTTYPE=image/jpeg:https://wheelersestate.com/wp-content/uploads/2023/04/MV5BMTkxNTk1ODcxNl5BMl5BanBnXkFtZTcwMDI1OTMzOQ@@._V1_.jpg
END:VEVENT
END:VCALENDAR